BEGIN:VCALENDAR
VERSION:2.0
PRODID:-//3rd Act Magazine - ECPv6.14.2//NONSGML v1.0//EN
CALSCALE:GREGORIAN
METHOD:PUBLISH
X-WR-CALNAME:3rd Act Magazine
X-ORIGINAL-URL:https://3rdactmagazine.com
X-WR-CALDESC:Events for 3rd Act Magazine
REFRESH-INTERVAL;VALUE=DURATION:PT1H
X-Robots-Tag:noindex
X-PUBLISHED-TTL:PT1H
BEGIN:VTIMEZONE
TZID:America/Los_Angeles
BEGIN:DAYLIGHT
TZOFFSETFROM:-0800
TZOFFSETTO:-0700
TZNAME:PDT
DTSTART:20250309T100000
END:DAYLIGHT
BEGIN:STANDARD
TZOFFSETFROM:-0700
TZOFFSETTO:-0800
TZNAME:PST
DTSTART:20251102T090000
END:STANDARD
END:VTIMEZONE
BEGIN:VEVENT
DTSTART;TZID=America/Los_Angeles:20250413T140000
DTEND;TZID=America/Los_Angeles:20250413T160000
DTSTAMP:20260423T014545
CREATED:20250223T202926Z
LAST-MODIFIED:20250223T202926Z
UID:31649-1744552800-1744560000@3rdactmagazine.com
SUMMARY:Do You Remember When…‘60s Songs that Rocked Our World
DESCRIPTION:Take a nostalgic journey back to the rockin’ 1960s with the singers of SilverSounds Northwest! This spring\, the era of roller skates\, bubble gum comics\, tie-dye\, and bell-bottoms comes alive in an electrifying performance. Experience the unforgettable sounds of The Everly Brothers\, The Jersey Boys\, The Rat Pack\, Elvis\, and iconic hits from the legendary Summer of ’69 and Woodstock. \nWith a rockin’ band\, talented soloists\, vibrant choreography and costuming\, clever narration\, and a touch of humor\, this show delivers music\, fun\, and memories in equal measure. SilverSounds Northwest proves “You are never too old to rock and roll!” Don’t miss the chance to relive the songs that defined a generation! \nTickets\, available online or at the door\, are $20 and FREE for those 17 & under accompanied by a paying adult. Visit nwassociatedarts.org/concerts to see the full concert list for the 2024-2025 season.
URL:https://3rdactmagazine.com/event/do-you-remember-when60s-songs-that-rocked-our-world/2025-04-13/
LOCATION:Highline Performing Arts Center\, 401 S 152nd St\, Burien\, WA\, 98148\, United States
ATTACH;FMTTYPE=image/jpeg:https://3rdactmagazine.com/wp-content/uploads/2025/02/SilverSounds-2025-scaled.jpg
END:VEVENT
BEGIN:VEVENT
DTSTART;TZID=America/Los_Angeles:20250412T140000
DTEND;TZID=America/Los_Angeles:20250412T160000
DTSTAMP:20260423T014545
CREATED:20250223T202926Z
LAST-MODIFIED:20250223T202926Z
UID:31645-1744466400-1744473600@3rdactmagazine.com
SUMMARY:Do You Remember When…‘60s Songs that Rocked Our World
DESCRIPTION:Take a nostalgic journey back to the rockin’ 1960s with the singers of SilverSounds Northwest! This spring\, the era of roller skates\, bubble gum comics\, tie-dye\, and bell-bottoms comes alive in an electrifying performance. Experience the unforgettable sounds of The Everly Brothers\, The Jersey Boys\, The Rat Pack\, Elvis\, and iconic hits from the legendary Summer of ’69 and Woodstock. \nWith a rockin’ band\, talented soloists\, vibrant choreography and costuming\, clever narration\, and a touch of humor\, this show delivers music\, fun\, and memories in equal measure. SilverSounds Northwest proves “You are never too old to rock and roll!” Don’t miss the chance to relive the songs that defined a generation! \nTickets\, available online or at the door\, are $20 and FREE for those 17 & under accompanied by a paying adult. Visit nwassociatedarts.org/concerts to see the full concert list for the 2024-2025 season.
URL:https://3rdactmagazine.com/event/do-you-remember-when60s-songs-that-rocked-our-world/2025-04-12/
LOCATION:Highline Performing Arts Center\, 401 S 152nd St\, Burien\, WA\, 98148\, United States
ATTACH;FMTTYPE=image/jpeg:https://3rdactmagazine.com/wp-content/uploads/2025/02/SilverSounds-2025-scaled.jpg
END:VEVENT
END:VCALENDAR