BEGIN:VCALENDAR
VERSION:2.0
PRODID:-//3rd Act Magazine - ECPv6.14.2//NONSGML v1.0//EN
CALSCALE:GREGORIAN
METHOD:PUBLISH
X-ORIGINAL-URL:https://3rdactmagazine.com
X-WR-CALDESC:Events for 3rd Act Magazine
REFRESH-INTERVAL;VALUE=DURATION:PT1H
X-Robots-Tag:noindex
X-PUBLISHED-TTL:PT1H
BEGIN:VTIMEZONE
TZID:America/Los_Angeles
BEGIN:DAYLIGHT
TZOFFSETFROM:-0800
TZOFFSETTO:-0700
TZNAME:PDT
DTSTART:20250309T100000
END:DAYLIGHT
BEGIN:STANDARD
TZOFFSETFROM:-0700
TZOFFSETTO:-0800
TZNAME:PST
DTSTART:20251102T090000
END:STANDARD
END:VTIMEZONE
BEGIN:VEVENT
DTSTART;TZID=America/Los_Angeles:20250426T110000
DTEND;TZID=America/Los_Angeles:20250426T120000
DTSTAMP:20260423T021546
CREATED:20250122T174416Z
LAST-MODIFIED:20250122T174416Z
UID:31369-1745665200-1745668800@3rdactmagazine.com
SUMMARY:Tech Help for Seniors at the Newcastle Library
DESCRIPTION:For older adults.\nTech savvy volunteers will provide one-on-one help for Windows\, Mac\, Android and iOS.\nBring your smart phone\, iPad or laptop and your questions.\nPlease register at kcls.org.
URL:https://3rdactmagazine.com/event/tech-help-for-seniors-at-the-newcastle-library-3/2025-04-26/
LOCATION:Newcastle Library
END:VEVENT
BEGIN:VEVENT
DTSTART;TZID=America/Los_Angeles:20250322T110000
DTEND;TZID=America/Los_Angeles:20250322T120000
DTSTAMP:20260423T021546
CREATED:20250122T174416Z
LAST-MODIFIED:20250122T174416Z
UID:31368-1742641200-1742644800@3rdactmagazine.com
SUMMARY:Tech Help for Seniors at the Newcastle Library
DESCRIPTION:For older adults.\nTech savvy volunteers will provide one-on-one help for Windows\, Mac\, Android and iOS.\nBring your smart phone\, iPad or laptop and your questions.\nPlease register at kcls.org.
URL:https://3rdactmagazine.com/event/tech-help-for-seniors-at-the-newcastle-library-3/2025-03-22/
LOCATION:Newcastle Library
END:VEVENT
BEGIN:VEVENT
DTSTART;TZID=America/Los_Angeles:20250208T110000
DTEND;TZID=America/Los_Angeles:20250208T120000
DTSTAMP:20260423T021546
CREATED:20250122T174416Z
LAST-MODIFIED:20250122T174416Z
UID:31365-1739012400-1739016000@3rdactmagazine.com
SUMMARY:Tech Help for Seniors at the Newcastle Library
DESCRIPTION:For older adults.\nTech savvy volunteers will provide one-on-one help for Windows\, Mac\, Android and iOS.\nBring your smart phone\, iPad or laptop and your questions.\nPlease register at kcls.org.
URL:https://3rdactmagazine.com/event/tech-help-for-seniors-at-the-newcastle-library-3/2025-02-08/
LOCATION:Newcastle Library
END:VEVENT
END:VCALENDAR