BEGIN:VCALENDAR
VERSION:2.0
PRODID:-//3rd Act Magazine - ECPv6.14.2//NONSGML v1.0//EN
CALSCALE:GREGORIAN
METHOD:PUBLISH
X-WR-CALNAME:3rd Act Magazine
X-ORIGINAL-URL:https://3rdactmagazine.com
X-WR-CALDESC:Events for 3rd Act Magazine
REFRESH-INTERVAL;VALUE=DURATION:PT1H
X-Robots-Tag:noindex
X-PUBLISHED-TTL:PT1H
BEGIN:VTIMEZONE
TZID:America/Los_Angeles
BEGIN:DAYLIGHT
TZOFFSETFROM:-0800
TZOFFSETTO:-0700
TZNAME:PDT
DTSTART:20260308T100000
END:DAYLIGHT
BEGIN:STANDARD
TZOFFSETFROM:-0700
TZOFFSETTO:-0800
TZNAME:PST
DTSTART:20261101T090000
END:STANDARD
END:VTIMEZONE
BEGIN:VEVENT
DTSTART;TZID=America/Los_Angeles:20260527T163000
DTEND;TZID=America/Los_Angeles:20260527T183000
DTSTAMP:20260420T064103
CREATED:20250820T175922Z
LAST-MODIFIED:20250820T175922Z
UID:44525-1779899400-1779906600@3rdactmagazine.com
SUMMARY:Wine Down Wednesday
DESCRIPTION:🍷 Exquisite Wines: Savor hand-poured selections by Jeff Boyer of Jeff UnCorked\, each glass telling a unique story.\n📸 Free Headshots: Capture the moment with professional photos by James Rizman of Ritzman Arts LLC—a perfect keepsake.\nFREE RAFFLE Drawing for Bottles of Wine and other Prizes\n🍴 Delicious Hors d’Oeuvres: Enjoy chef-crafted bites paired with wine and non-alcoholic beverages. \nEVERY FOURTH WEDNESDAY OF THE MONTH!!!!!!\nWILL NOT HAVE ON NOVEMBER OR DECEMBER DUE TO THE HOLIDAYS. Have fun though!
URL:https://3rdactmagazine.com/event/wine-down-wednesday-4/2026-05-27/
LOCATION:Cedar Creek Memory Care\, 21006 72nd Ave W\, Edmonds\, WA\, 98026\, United States
ATTACH;FMTTYPE=image/png:https://3rdactmagazine.com/wp-content/uploads/2025/08/WDW.png
END:VEVENT
END:VCALENDAR