BEGIN:VCALENDAR
VERSION:2.0
PRODID:-//3rd Act Magazine - ECPv6.14.2//NONSGML v1.0//EN
CALSCALE:GREGORIAN
METHOD:PUBLISH
X-WR-CALNAME:3rd Act Magazine
X-ORIGINAL-URL:https://3rdactmagazine.com
X-WR-CALDESC:Events for 3rd Act Magazine
REFRESH-INTERVAL;VALUE=DURATION:PT1H
X-Robots-Tag:noindex
X-PUBLISHED-TTL:PT1H
BEGIN:VTIMEZONE
TZID:America/Los_Angeles
BEGIN:DAYLIGHT
TZOFFSETFROM:-0800
TZOFFSETTO:-0700
TZNAME:PDT
DTSTART:20250309T100000
END:DAYLIGHT
BEGIN:STANDARD
TZOFFSETFROM:-0700
TZOFFSETTO:-0800
TZNAME:PST
DTSTART:20251102T090000
END:STANDARD
END:VTIMEZONE
BEGIN:VEVENT
DTSTART;TZID=America/Los_Angeles:20250804T080000
DTEND;TZID=America/Los_Angeles:20250806T170000
DTSTAMP:20260421T172203
CREATED:20250604T105844Z
LAST-MODIFIED:20250604T105844Z
UID:43804-1754294400-1754499600@3rdactmagazine.com
SUMMARY:Global Summit on Materials Science and Nanoscience
DESCRIPTION:Materials Science and Engineering\, Ceramics and Composite Materials Polymers Science and Technology\, Advanced Nanomaterials\, Mining and Metallurgy\, Carbon Nanostructures and 2D Materials\, Computational Modeling of Metals & Materials\, Smart Materials and Applications\, Metamaterials\, Energy Materials\, Advanced Materials Synthesis and Characterization\, Nanomaterials and Nanotechnology\, Thin Films and Coatings\, Nanomedicine and Nanobiotechnology\, Nanomaterials for Energy and Environment\, Nanofabrication and Nanolithography\, Biomaterials and Biomedical Engineering\, Hydrogen Energy and Fuel Cell Technology\, Magnetic Materials\, Crystallography\, Semiconductors\, Advanced Materials and  Nanotechnology\, Emerging Areas of Materials Science\,  Magnetism and Multiferroism\, Graphene and Its Technology.
URL:https://3rdactmagazine.com/event/global-summit-on-materials-science-and-nanoscience/
LOCATION:Frankfurt\, Germany\, Frankfurt\, Germany\, Frankfurt\, Germany\, Frankfurt\, AL\, 60306\, Germany
ATTACH;FMTTYPE=image/jpeg:https://3rdactmagazine.com/wp-content/uploads/2025/06/Basic-linked-in-banner-scaled.jpg
END:VEVENT
END:VCALENDAR