BEGIN:VCALENDAR
VERSION:2.0
PRODID:-//3rd Act Magazine - ECPv6.14.2//NONSGML v1.0//EN
CALSCALE:GREGORIAN
METHOD:PUBLISH
X-ORIGINAL-URL:https://3rdactmagazine.com
X-WR-CALDESC:Events for 3rd Act Magazine
REFRESH-INTERVAL;VALUE=DURATION:PT1H
X-Robots-Tag:noindex
X-PUBLISHED-TTL:PT1H
BEGIN:VTIMEZONE
TZID:America/Los_Angeles
BEGIN:DAYLIGHT
TZOFFSETFROM:-0800
TZOFFSETTO:-0700
TZNAME:PDT
DTSTART:20230312T100000
END:DAYLIGHT
BEGIN:STANDARD
TZOFFSETFROM:-0700
TZOFFSETTO:-0800
TZNAME:PST
DTSTART:20231105T090000
END:STANDARD
BEGIN:DAYLIGHT
TZOFFSETFROM:-0800
TZOFFSETTO:-0700
TZNAME:PDT
DTSTART:20240310T100000
END:DAYLIGHT
BEGIN:STANDARD
TZOFFSETFROM:-0700
TZOFFSETTO:-0800
TZNAME:PST
DTSTART:20241103T090000
END:STANDARD
BEGIN:DAYLIGHT
TZOFFSETFROM:-0800
TZOFFSETTO:-0700
TZNAME:PDT
DTSTART:20250309T100000
END:DAYLIGHT
BEGIN:STANDARD
TZOFFSETFROM:-0700
TZOFFSETTO:-0800
TZNAME:PST
DTSTART:20251102T090000
END:STANDARD
END:VTIMEZONE
BEGIN:VEVENT
DTSTART;TZID=America/Los_Angeles:20250501T160000
DTEND;TZID=America/Los_Angeles:20250501T180000
DTSTAMP:20260423T021454
CREATED:20250422T181408Z
LAST-MODIFIED:20250422T181408Z
UID:43502-1746115200-1746122400@3rdactmagazine.com
SUMMARY:Moms UnWine!
DESCRIPTION:Moms UnWine! \nCome sip\, shop\, and celebrate the amazing moms in your life! Enjoy wine tasting\, local shopping\, and delicious bites while experiencing the warmth and community that makes GenCare special. \nThe first 15 RSVPs receive a $20 shopping credit! \nThursday\, May 1st • 4 pm – 6 pm \nSpace is limited!\nCall 425-448-8642 or email rsvper@gencare-inc.com to RSVP.
URL:https://3rdactmagazine.com/event/moms-unwine/
LOCATION:Gencare The Lodge at eagle Ridge\, 1600 S Eagle Ridge Dr\, Renton\, WA\, 98055\, United States
ATTACH;FMTTYPE=image/jpeg:https://3rdactmagazine.com/wp-content/uploads/2025/04/Gencare_ER_My-Grandma_Flyer_REV3.jpg
END:VEVENT
BEGIN:VEVENT
DTSTART;TZID=America/Los_Angeles:20230621T110000
DTEND;TZID=America/Los_Angeles:20230621T130000
DTSTAMP:20260423T021454
CREATED:20230608T163159Z
LAST-MODIFIED:20230608T163159Z
UID:22333-1687345200-1687352400@3rdactmagazine.com
SUMMARY:Bite of Gencare
DESCRIPTION:Enjoy a day full of delicious food\, live entertainment and exciting activities.
URL:https://3rdactmagazine.com/event/bite-of-gencare/
LOCATION:Gencare The Lodge at eagle Ridge\, 1600 S Eagle Ridge Dr\, Renton\, WA\, 98055\, United States
ATTACH;FMTTYPE=image/jpeg:https://3rdactmagazine.com/wp-content/uploads/2023/06/GenCare_ER_Bite-of-Gencare_flye_REV-5-16-23.jpg
END:VEVENT
END:VCALENDAR