BEGIN:VCALENDAR
VERSION:2.0
PRODID:-//3rd Act Magazine - ECPv6.14.2//NONSGML v1.0//EN
CALSCALE:GREGORIAN
METHOD:PUBLISH
X-ORIGINAL-URL:https://3rdactmagazine.com
X-WR-CALDESC:Events for 3rd Act Magazine
REFRESH-INTERVAL;VALUE=DURATION:PT1H
X-Robots-Tag:noindex
X-PUBLISHED-TTL:PT1H
BEGIN:VTIMEZONE
TZID:America/Los_Angeles
BEGIN:DAYLIGHT
TZOFFSETFROM:-0800
TZOFFSETTO:-0700
TZNAME:PDT
DTSTART:20260308T100000
END:DAYLIGHT
BEGIN:STANDARD
TZOFFSETFROM:-0700
TZOFFSETTO:-0800
TZNAME:PST
DTSTART:20261101T090000
END:STANDARD
END:VTIMEZONE
BEGIN:VEVENT
DTSTART;TZID=America/Los_Angeles:20260512T110000
DTEND;TZID=America/Los_Angeles:20260512T120000
DTSTAMP:20260425T041047
CREATED:20260422T154446Z
LAST-MODIFIED:20260422T154446Z
UID:136140-1778583600-1778587200@3rdactmagazine.com
SUMMARY:Gardening with Ciscoe: Making the Most of a Small Space
DESCRIPTION:Love to garden but have limited space? Learn how to make the most of the space you have! Join us this spring for a fun\, informative\, and complimentary gardening workshop with Ciscoe Morris. We will be discussing small space plants and highlighting those that will thrive in smaller gardens or pots. You’ll learn about the best plants for container gardening and hear tips on how to create a beautiful garden oasis in any size space.
URL:https://3rdactmagazine.com/event/gardening-with-ciscoe-making-the-most-of-a-small-space/
LOCATION:University House Issaquah\, 22975 SE Black Nugget Road\, Issaquah\, WA\, 98029
ATTACH;FMTTYPE=image/png:https://3rdactmagazine.com/wp-content/uploads/2026/04/ISQCiscoe.png
END:VEVENT
END:VCALENDAR